BEGIN:VCALENDAR
VERSION:2.0
PRODID:-//Mystery Writers of America - New York Chapter - ECPv6.15.20//NONSGML v1.0//EN
CALSCALE:GREGORIAN
METHOD:PUBLISH
X-ORIGINAL-URL:https://www.mwany.org
X-WR-CALDESC:Events for Mystery Writers of America - New York Chapter
REFRESH-INTERVAL;VALUE=DURATION:PT1H
X-Robots-Tag:noindex
X-PUBLISHED-TTL:PT1H
BEGIN:VTIMEZONE
TZID:America/New_York
BEGIN:DAYLIGHT
TZOFFSETFROM:-0500
TZOFFSETTO:-0400
TZNAME:EDT
DTSTART:20230312T070000
END:DAYLIGHT
BEGIN:STANDARD
TZOFFSETFROM:-0400
TZOFFSETTO:-0500
TZNAME:EST
DTSTART:20231105T060000
END:STANDARD
BEGIN:DAYLIGHT
TZOFFSETFROM:-0500
TZOFFSETTO:-0400
TZNAME:EDT
DTSTART:20240310T070000
END:DAYLIGHT
BEGIN:STANDARD
TZOFFSETFROM:-0400
TZOFFSETTO:-0500
TZNAME:EST
DTSTART:20241103T060000
END:STANDARD
BEGIN:DAYLIGHT
TZOFFSETFROM:-0500
TZOFFSETTO:-0400
TZNAME:EDT
DTSTART:20250309T070000
END:DAYLIGHT
BEGIN:STANDARD
TZOFFSETFROM:-0400
TZOFFSETTO:-0500
TZNAME:EST
DTSTART:20251102T060000
END:STANDARD
END:VTIMEZONE
BEGIN:VEVENT
DTSTART;TZID=America/New_York:20240924T181500
DTEND;TZID=America/New_York:20240924T194500
DTSTAMP:20260425T153629
CREATED:20240717T230337Z
LAST-MODIFIED:20240717T230337Z
UID:5801-1727201700-1727207100@www.mwany.org
SUMMARY:"The Spark of Inspiration"
DESCRIPTION:  \nWhere does the idea for a mystery come from? Is the story triggered by a news article\, a real-life crime or a dream? Are there any particular places or incidents that you draw on when you find yourself with writer’s block? This panel discussion with four mystery authors will provide insight into inspiration. Venue: Montclair Public Library\, 50 South Fullerton Avenue\, Montclair\, NJ.\n  \n  \n  \n 
URL:https://www.mwany.org/event/the-spark-of-inspiration/
LOCATION:Montclair Public Library\, 50 S. Fullerton Ave.\, Montclair\, NJ\, United States
ORGANIZER;CN="Mystery Writers of American NY":MAILTO:info@mwany.org
END:VEVENT
END:VCALENDAR