BEGIN:VCALENDAR
VERSION:2.0
PRODID:-//Mystery Writers of America - New York Chapter - ECPv6.15.20//NONSGML v1.0//EN
CALSCALE:GREGORIAN
METHOD:PUBLISH
X-ORIGINAL-URL:https://www.mwany.org
X-WR-CALDESC:Events for Mystery Writers of America - New York Chapter
REFRESH-INTERVAL;VALUE=DURATION:PT1H
X-Robots-Tag:noindex
X-PUBLISHED-TTL:PT1H
BEGIN:VTIMEZONE
TZID:America/New_York
BEGIN:DAYLIGHT
TZOFFSETFROM:-0500
TZOFFSETTO:-0400
TZNAME:EDT
DTSTART:20240310T070000
END:DAYLIGHT
BEGIN:STANDARD
TZOFFSETFROM:-0400
TZOFFSETTO:-0500
TZNAME:EST
DTSTART:20241103T060000
END:STANDARD
BEGIN:DAYLIGHT
TZOFFSETFROM:-0500
TZOFFSETTO:-0400
TZNAME:EDT
DTSTART:20250309T070000
END:DAYLIGHT
BEGIN:STANDARD
TZOFFSETFROM:-0400
TZOFFSETTO:-0500
TZNAME:EST
DTSTART:20251102T060000
END:STANDARD
BEGIN:DAYLIGHT
TZOFFSETFROM:-0500
TZOFFSETTO:-0400
TZNAME:EDT
DTSTART:20260308T070000
END:DAYLIGHT
BEGIN:STANDARD
TZOFFSETFROM:-0400
TZOFFSETTO:-0500
TZNAME:EST
DTSTART:20261101T060000
END:STANDARD
END:VTIMEZONE
BEGIN:VEVENT
DTSTART;TZID=America/New_York:20250405T120000
DTEND;TZID=America/New_York:20250405T140000
DTSTAMP:20260421T204533
CREATED:20250324T181653Z
LAST-MODIFIED:20250324T181653Z
UID:6522-1743854400-1743861600@www.mwany.org
SUMMARY:Author Readings
DESCRIPTION:  \n \nMWA NY authors read from their stories at noon on Saturday\, April 5\, at the NYPL on East 58th Street\, between Park and Lex (127 East 58th Street). Kickoff is at noon. For more information please email: info@mwany.org
URL:https://www.mwany.org/event/author-readings/
LOCATION:58th Street Library\, 127 East 58th Street (between Park and Lexington Avenues)\, New York\, United States
CATEGORIES:Readings
ORGANIZER;CN="Mystery Writers of American NY":MAILTO:info@mwany.org
END:VEVENT
END:VCALENDAR