BEGIN:VCALENDAR
VERSION:2.0
PRODID:-//Mystery Writers of America - New York Chapter - ECPv6.15.20//NONSGML v1.0//EN
CALSCALE:GREGORIAN
METHOD:PUBLISH
X-WR-CALNAME:Mystery Writers of America - New York Chapter
X-ORIGINAL-URL:https://www.mwany.org
X-WR-CALDESC:Events for Mystery Writers of America - New York Chapter
REFRESH-INTERVAL;VALUE=DURATION:PT1H
X-Robots-Tag:noindex
X-PUBLISHED-TTL:PT1H
BEGIN:VTIMEZONE
TZID:America/New_York
BEGIN:DAYLIGHT
TZOFFSETFROM:-0500
TZOFFSETTO:-0400
TZNAME:EDT
DTSTART:20240310T070000
END:DAYLIGHT
BEGIN:STANDARD
TZOFFSETFROM:-0400
TZOFFSETTO:-0500
TZNAME:EST
DTSTART:20241103T060000
END:STANDARD
BEGIN:DAYLIGHT
TZOFFSETFROM:-0500
TZOFFSETTO:-0400
TZNAME:EDT
DTSTART:20250309T070000
END:DAYLIGHT
BEGIN:STANDARD
TZOFFSETFROM:-0400
TZOFFSETTO:-0500
TZNAME:EST
DTSTART:20251102T060000
END:STANDARD
BEGIN:DAYLIGHT
TZOFFSETFROM:-0500
TZOFFSETTO:-0400
TZNAME:EDT
DTSTART:20260308T070000
END:DAYLIGHT
BEGIN:STANDARD
TZOFFSETFROM:-0400
TZOFFSETTO:-0500
TZNAME:EST
DTSTART:20261101T060000
END:STANDARD
END:VTIMEZONE
BEGIN:VEVENT
DTSTART;TZID=America/New_York:20250802T110000
DTEND;TZID=America/New_York:20250802T130000
DTSTAMP:20260419T185358
CREATED:20250726T173044Z
LAST-MODIFIED:20250726T173044Z
UID:6756-1754132400-1754139600@www.mwany.org
SUMMARY:MWA-NY Northern New Jersey/Rockland-Westchester NY Area Get-Together and Brunch
DESCRIPTION:Join us on Saturday\, August 2nd to meet and talk with fellow writers. Enjoy a brunch-time meal (separate checks) while you meet your fellow writers and MWA-NY members. You’re welcome to bring a plus-one! PLEASE RSVP BY JULY 28th.\nDATE: Saturday\, August 2nd\nTIME: 11:00 AM – 1:00 PM\nWHERE: Shannon Rose Restaurant\n1200 Route 17 North\nRamsey\, New Jersey\nOrganizer: Carol Binkowski
URL:https://www.mwany.org/event/mwa-ny-northern-new-jersey-rockland-westchester-ny-area-get-together-and-brunch/
END:VEVENT
END:VCALENDAR