BEGIN:VCALENDAR
VERSION:2.0
PRODID:-//Mystery Writers of America - New York Chapter - ECPv6.15.20//NONSGML v1.0//EN
CALSCALE:GREGORIAN
METHOD:PUBLISH
X-ORIGINAL-URL:https://www.mwany.org
X-WR-CALDESC:Events for Mystery Writers of America - New York Chapter
REFRESH-INTERVAL;VALUE=DURATION:PT1H
X-Robots-Tag:noindex
X-PUBLISHED-TTL:PT1H
BEGIN:VTIMEZONE
TZID:America/New_York
BEGIN:DAYLIGHT
TZOFFSETFROM:-0500
TZOFFSETTO:-0400
TZNAME:EDT
DTSTART:20240310T070000
END:DAYLIGHT
BEGIN:STANDARD
TZOFFSETFROM:-0400
TZOFFSETTO:-0500
TZNAME:EST
DTSTART:20241103T060000
END:STANDARD
BEGIN:DAYLIGHT
TZOFFSETFROM:-0500
TZOFFSETTO:-0400
TZNAME:EDT
DTSTART:20250309T070000
END:DAYLIGHT
BEGIN:STANDARD
TZOFFSETFROM:-0400
TZOFFSETTO:-0500
TZNAME:EST
DTSTART:20251102T060000
END:STANDARD
BEGIN:DAYLIGHT
TZOFFSETFROM:-0500
TZOFFSETTO:-0400
TZNAME:EDT
DTSTART:20260308T070000
END:DAYLIGHT
BEGIN:STANDARD
TZOFFSETFROM:-0400
TZOFFSETTO:-0500
TZNAME:EST
DTSTART:20261101T060000
END:STANDARD
END:VTIMEZONE
BEGIN:VEVENT
DTSTART;TZID=America/New_York:20250520T180000
DTEND;TZID=America/New_York:20250520T193000
DTSTAMP:20260420T045758
CREATED:20250511T223110Z
LAST-MODIFIED:20250511T223110Z
UID:6599-1747764000-1747769400@www.mwany.org
SUMMARY:Crime Craft: The Art of the Short Story  with Award-Winning Author Barb Goffman
DESCRIPTION:If it’s Tuesday it must be time for another Crime Craft: Join award-winning author Barb Goffman on Tuesday\, May 20\, for a sure-to-be-enlightening look at the art of crafting short stores. This virtual event kicks off at 6:00 p.m. and can be accessed here: \nhttps://us06web.zoom.us/j/83794864332?pwd=sZ4GSNGYygUCr6hySlym6Y0P9i9pM4.1 \nShort story author Barb Goffman (www.barbgoffman.com) is the 2024 recipient of the Golden Derringer Award for lifetime achievement\, given by the Short Mystery Fiction Society. She has won the Agatha Award four times\, the Macavity twice\, and the Anthony\, Derringer\, and the EQMM Readers Award once each. She’s been a finalist for major crime-writing honors forty-eight times\, including two current nominations for the Anthony Award in the Best Short Story and the Best Anthology categories. \n \nHer stories have appeared in Alfred Hitchcock’s Mystery Magazine\, Ellery Queen’s Mystery Magazine\, Black Cat Weekly\, Black Cat Mystery Magazine\, and many anthologies. She works as a freelance editor\, often focusing on cozy and traditional mysteries\, and she is an associate editor of Black Cat Weekly. Her newest story is “Keep It Dark\,” published in In Too Deep: Crime Fiction Inspired by the Songs of Genesis. \n 
URL:https://www.mwany.org/event/crime-craft-the-art-of-the-short-story-with-award-winning-author-barb-goffman/
LOCATION:Zoom
CATEGORIES:Writing Craft
END:VEVENT
END:VCALENDAR