BEGIN:VCALENDAR
VERSION:2.0
PRODID:-//Mystery Writers of America - New York Chapter - ECPv6.15.20//NONSGML v1.0//EN
CALSCALE:GREGORIAN
METHOD:PUBLISH
X-WR-CALNAME:Mystery Writers of America - New York Chapter
X-ORIGINAL-URL:https://www.mwany.org
X-WR-CALDESC:Events for Mystery Writers of America - New York Chapter
REFRESH-INTERVAL;VALUE=DURATION:PT1H
X-Robots-Tag:noindex
X-PUBLISHED-TTL:PT1H
BEGIN:VTIMEZONE
TZID:America/New_York
BEGIN:DAYLIGHT
TZOFFSETFROM:-0500
TZOFFSETTO:-0400
TZNAME:EDT
DTSTART:20240310T070000
END:DAYLIGHT
BEGIN:STANDARD
TZOFFSETFROM:-0400
TZOFFSETTO:-0500
TZNAME:EST
DTSTART:20241103T060000
END:STANDARD
BEGIN:DAYLIGHT
TZOFFSETFROM:-0500
TZOFFSETTO:-0400
TZNAME:EDT
DTSTART:20250309T070000
END:DAYLIGHT
BEGIN:STANDARD
TZOFFSETFROM:-0400
TZOFFSETTO:-0500
TZNAME:EST
DTSTART:20251102T060000
END:STANDARD
BEGIN:DAYLIGHT
TZOFFSETFROM:-0500
TZOFFSETTO:-0400
TZNAME:EDT
DTSTART:20260308T070000
END:DAYLIGHT
BEGIN:STANDARD
TZOFFSETFROM:-0400
TZOFFSETTO:-0500
TZNAME:EST
DTSTART:20261101T060000
END:STANDARD
BEGIN:DAYLIGHT
TZOFFSETFROM:-0500
TZOFFSETTO:-0400
TZNAME:EDT
DTSTART:20270314T070000
END:DAYLIGHT
BEGIN:STANDARD
TZOFFSETFROM:-0400
TZOFFSETTO:-0500
TZNAME:EST
DTSTART:20271107T060000
END:STANDARD
END:VTIMEZONE
BEGIN:VEVENT
DTSTART;TZID=America/New_York:20251025T130000
DTEND;TZID=America/New_York:20251025T160000
DTSTAMP:20260420T202854
CREATED:20250725T190822Z
LAST-MODIFIED:20250728T170704Z
UID:6753-1761397200-1761408000@www.mwany.org
SUMMARY:Unlocking the Secrets of the Dead: Forensics
DESCRIPTION:  \n \nThis expert panel will explore the fascinating world of forensics and how scientific methods are used to help solve crimes. The discussion also will look at how forensics are portrayed in books. The event will feature a Q&A and a networking opportunity. This free event will be open to MWA members and the public. \nDate: October 25\, 2025 \nTime: 1:00 to 4:00 p.m. \nLocation: Morristown and Morris Township Public Library\, \n1 Miller Road\, Morristown\, NJ. \nRefreshments will be served! \nModerator: Nev March \nPanelists: Lieutenant. Art Weisgerber; Dr. Lauren Thoma; Kimberlee Moran \nNev March is the first Indian-born author to receive the Minotaur Books/Mystery Writers of America Award for Best First Crime Fiction. Her debut novel\, Murder in Old Bombay\, also won an Audiofile award and was an Edgar and Anthony finalist. Her sequel\, Peril at the Exposition\, describes conflict during the gilded age that planted the seeds of today’s red-blue divide. Her third book\, The Spanish Diplomat’s Secret\, traces the origins of the Spanish American war over Cuba from the perspective of her immigrant detective duo. Nev’s books deal with issues of identity\, race and moral boundaries. After a long corporate career\, Nev returned to her passion—writing —and now teaches creative writing at the Rutgers-Osher Institute. She is a member of Crime Writers of Color and president of New York chapter of Mystery Writers of America. \nLieutenant Art Weisgerber has been the commanding officer of the Crime Scene/Identification Unit at the Norwalk\, Connecticut\, Police Department since 2011. The unit is responsible for the processing of forensic evidence at major crime scenes and fatal-crash scenes along with evidence collected by other divisions. Weisgerber joined the department in 1988 and has worked in the patrol division\, narcotics unit\, and detective bureau as both a detective and detective sergeant before assuming command of the crime scene unit. During his time in the detective ureau\, Weisgerber was assigned to the cold case unit and closed several cases by arrest or identification of human remains. He also is an adjunct police instructor for the State of Connecticut Municipal Police Officer Academy and teaches crime scene procedure/investigation privately for the Spector Criminal Justice Training Network. \nDr. Lauren Thoma is a forensic pathologist working in Central New Jersey who has performed nearly 2\,500 autopsies and testified over sixty-five times in superior court in New Jersey and New York and in federal court. Originally hailing from the Philadelphia suburbs\, she obtained her B.S. in biology at Wilson College in Chambersburg\, Pennsylvania\, and her M.D. from Jefferson Medical College in Philadelphia. She underwent four years of residency training in anatomic and clinical pathology at the Hospital of the University of Pennsylvania in Philadelphia and completed fellowship training at Office of the Chief Medical Examiner of the City of New York in forensic pathology and forensic cardiac pathology/europathology. Dr. Thoma holds board certifications in anatomic\, clinical\, and forensic pathology and has lectured at the New Jersey State Police Academy and NJSP Crime Scene Investigation School. She has a special interest in long-term unidentified cases\, overdose fatalities\, and quality improvement in death investigation. \nKimberlee Sue Moran has over twenty years of experience as a forensic consultant and educator\, both in the UK and United States. She is an associate teaching professor in the Rutgers-Camden Department of Sociology\, Anthropology\, and Criminal Justice. Kimberlee has worked on several cases in a range of capacities. She runs training workshops for local law enforcement that include blowing up transit buses and digging up dead animals. Her doctoral research was in the field of ancient fingerprints\, and her current research is in taphonomy\, the process of decomposition. She is a fellow of the American Academy of Forensic Science and an active member of the Society for American Archaeology\, the UK Fingerprint Society\, the Association for Women in Forensic Science\, and Forensic Archaeology Recovery. Kimberlee holds an undergraduate degree in archaeology from Bryn Mawr College and a master’s of science in forensic archaeological science from the Institute of Archaeology at University College London. She is the coeditor of Forensic Archaeology: Multidisciplinary Perspectives. Kimberlee served on the Crime Scene Investigation subcommittee of the NIST-led Organization of Scientific Area Committees (OSAC) from 2015 until 2024. She is passionate about public outreach\, STEM education\, and science in the service of justice. Kimberlee is the recipient of the 2021 Chancellor’s Teaching Excellence Award and the 2021 Presidential Award for Excellence in Teaching.
URL:https://www.mwany.org/event/unlocking-the-secrets-of-the-dead-forensics/
CATEGORIES:Writing Craft
END:VEVENT
BEGIN:VEVENT
DTSTART;TZID=America/New_York:20260217T180000
DTEND;TZID=America/New_York:20260217T200000
DTSTAMP:20260420T202854
CREATED:20260204T015004Z
LAST-MODIFIED:20260204T020142Z
UID:7071-1771351200-1771358400@www.mwany.org
SUMMARY:Crime Craft: 'The FBI in Books\, TV and Movies - Myths and Misconceptions'
DESCRIPTION:Join host Kate Hohl on Tuesday\, February 2/17\, at 6:00pm EST for the February Crime Craft with retired FBI Agent Jerri Williams: “The FBI in Books\, TV and Movies – Myths and Misconceptions.” \nWhat most people know about the FBI they’ve learned from entertainment media. From the perspective of a retired agent who has also worked as a technical consultant for TV shows\, Jerri Williams will explore what crime fiction and crime dramas get right and wrong about the FBI and present teachable moments. \n \nWilliams spent 26 years as a special agent\, specializing in economic fraud and corruption investigations. She’s now on a mission to show the public what the FBI is and what the FBI does. The FBI Agents Association has recognized Williams as its Distinguished Service Honoree for sharing FBI stories. Through her police procedural novels\, nonfiction book\, blog\, and true crime podcast\, FBI Case File Review\, she debunks misconceptions about the FBI found in books\, TV\, and movies. She has worked as a consultant for major TV studios\, assisting producers and showrunners in developing realistic FBI characters and storylines. Learn more at jerriwilliams.com. \nJoin here.
URL:https://www.mwany.org/event/crime-craft-the-fbi-in-books-tv-and-movies-myths-and-misconceptions/
CATEGORIES:Writing Craft
END:VEVENT
END:VCALENDAR