BEGIN:VCALENDAR
VERSION:2.0
PRODID:-//Mystery Writers of America - New York Chapter - ECPv6.15.20//NONSGML v1.0//EN
CALSCALE:GREGORIAN
METHOD:PUBLISH
X-WR-CALNAME:Mystery Writers of America - New York Chapter
X-ORIGINAL-URL:https://www.mwany.org
X-WR-CALDESC:Events for Mystery Writers of America - New York Chapter
REFRESH-INTERVAL;VALUE=DURATION:PT1H
X-Robots-Tag:noindex
X-PUBLISHED-TTL:PT1H
BEGIN:VTIMEZONE
TZID:America/New_York
BEGIN:DAYLIGHT
TZOFFSETFROM:-0500
TZOFFSETTO:-0400
TZNAME:EDT
DTSTART:20250309T070000
END:DAYLIGHT
BEGIN:STANDARD
TZOFFSETFROM:-0400
TZOFFSETTO:-0500
TZNAME:EST
DTSTART:20251102T060000
END:STANDARD
BEGIN:DAYLIGHT
TZOFFSETFROM:-0500
TZOFFSETTO:-0400
TZNAME:EDT
DTSTART:20260308T070000
END:DAYLIGHT
BEGIN:STANDARD
TZOFFSETFROM:-0400
TZOFFSETTO:-0500
TZNAME:EST
DTSTART:20261101T060000
END:STANDARD
BEGIN:DAYLIGHT
TZOFFSETFROM:-0500
TZOFFSETTO:-0400
TZNAME:EDT
DTSTART:20270314T070000
END:DAYLIGHT
BEGIN:STANDARD
TZOFFSETFROM:-0400
TZOFFSETTO:-0500
TZNAME:EST
DTSTART:20271107T060000
END:STANDARD
END:VTIMEZONE
BEGIN:VEVENT
DTSTART;TZID=America/New_York:20260518T170000
DTEND;TZID=America/New_York:20260518T180000
DTSTAMP:20260422T002657
CREATED:20260421T013709Z
LAST-MODIFIED:20260421T013709Z
UID:7197-1779123600-1779127200@www.mwany.org
SUMMARY:
DESCRIPTION:(MWA) Panel: “Creating Unforgettable Characters” In-Person \nJoin us for an inb-person Mystery Writers of America (MWA)-NY Panel discussion on Monday\, Monday 18\, at the Tredyffrin Library in Strafford\, PA. The topic is “Creating Unforgettable Characters.” Details below. See you there for a fun evening! \n“Creating Unforgettable Characters” \nAt the heart of any memorable story is a character who probably remains with the reader long after the last page ends. Is it the strong backstory? The distinct personality? A unique voice? Does the character evolve and grow throughout the story? Do all of these attributes create a remarkable and lasting impression? Come find out Monday\, May 18! \nBios of Panel \nMichael Bradley (moderator) is an award-winning author from Delaware. He spent eight years as a radio DJ before realizing he needed a real job and turned to IT. Never one to waste an experience\, he leveraged his familiarity with life on the radio to infuse his suspense novels with a unique blend of familiarity and intrigue. His third novel\, Dead Air (2020)\, garnered critical acclaim\, winning a Foreword INDIES Award and an IBPA Benjamin Franklin Award. The novel has been called “absorbing and filled with shocking twists.” His new novel\, titled\,Those Who Shall Die\, is set for release on July 7.  It has already garnered praise\, being called “a well-written\, clever whodunit with crafty twists.” \nJohn Dobbyn (panel member): After graduation from Harvard College\, Boston College Law School\, and Harvard Law School\, and three years in the US Air Force\, John Dobbyn practiced as a trial attorney before working forty-seven years as a professor of law at Villanova Law School. As a fiction writer\, he has had seven award-winning novels published by Oceanview Publishing and over thirty short stories in Ellery Queen’s Mystery Magazine and Alfred Hitchcock’s Mystery Magazine. His latest novel is Deadly Depths. \nJames McCrone (panel member): James McCrone’s stories pose questions about the nature of power\, the choices we make\, and the lessons we don’t learn. He’s the author of the thriller trilogy Faithless Elector\, Dark Network and Emergency Powers\, about stealing the presidency and creating a puppet government\, and Bastard Verdict\, in which a looming second referendum on Scottish independence threatens to expose irregularities in the first. He’s the current president of the Delaware Valley Sisters in Crime chapter and a member of Mystery Writers of America and the International Association of Crime Writers. He lives in Philadelphia. His latest novel\, Witness Tree\, is out on submission. You can learn more at his website: JamesMcCrone.com \nJane Kelly (panel member): Jane Kelly is the author of the Meg Daniels Mysteries\, Meg Daniels Mysteries Weekenders\, Writing in Time Mysteries and Widow Lady Mysteries. Her stand-alone novels include Nightingale Songs\, A Death in Scilly\, and The Secret Audience (2026). She holds an MS in information studies from Drexel University and an MPhil in popular iterature from Trinity College\, University of Dublin. She is a past president of the Delaware Valley Sisters in Crime and has served on the board of the New York Chapter of Mystery Writers of America. The fourth and sixth books in the Meg Daniels series\, Missing You in Atlantic City\, and Strangers in the Avalon Dunes\, won the Independent Publisher Book Award silver medals for mid-Atlantic fiction. She lives in the Philadelphia area. \nRegistration is required.  Adults 18+. \nThis program fulfills PA Forward’s Civic and Social Literacy: “The ability to positively impact the community\, engage in respectful discussions\, understand civic roles and responsibilities\, participate in community activities\, and drive positive change.” \nRegistration is required.  Adults 18+. \nThis program fulfills PA Forward’s Civic and Social Literacy: “The ability to positively impact the community\, engage in respectful discussions\, understand civic roles and responsibilities\, participate in community activities\, and drive positive change.” \nDate:\nMonday\, May 18\, 2026\nTime:\n5:00pm – 6:30pm\nTime Zone:\nEastern Time – US & Canada (change)\nLocation:\nKing Meeting Room\nChester County Library System:\nTredyffrin Library\nAudience:\nAdults\nCategories:\nAdults     Arts & Culture     Civic & Social \nRegistration is required (scroll to the bottom of the page) There are 35 seats available.
URL:https://www.mwany.org/event/7197/
LOCATION:Tredyffrin Library\, 582 Upper Gulph Rd.\, Strafford\, Pennsylvnia\, 19087\, United States
END:VEVENT
BEGIN:VEVENT
DTSTART;TZID=America/New_York:20260611T180000
DTEND;TZID=America/New_York:20260611T210000
DTSTAMP:20260422T002657
CREATED:20260412T005224Z
LAST-MODIFIED:20260419T132846Z
UID:7177-1781200800-1781211600@www.mwany.org
SUMMARY:MWA-NY Hosting First Spring Fling
DESCRIPTION:Spring Fling 2026 \nMWA-NY is hosting its first spring party on Thursday\, June 11. \nGreat memories and new friendships await. \nJoin us as we celebrate the world of mystery. \nSpecial Guest: \nNew York Times bestselling author  \nSusan Elia MacNeal \nIt would be a crime to miss it! \nDeets: \nMWA-NY Spring Fling! \nThursday\, June 11\, 6 – 9 p.m.\nThe Tailor Public House\n505 8th Ave. New York\, NY 10018\nRegistration link: \nhttps://www.paypal.com/ncp/payment/ZC8F25BEMUKJL \n  \n  \n 
URL:https://www.mwany.org/event/mwa-ny-hosting-first-spring-fling-2/
END:VEVENT
END:VCALENDAR