BEGIN:VCALENDAR
VERSION:2.0
PRODID:-//Mystery Writers of America - New York Chapter - ECPv6.15.20//NONSGML v1.0//EN
CALSCALE:GREGORIAN
METHOD:PUBLISH
X-ORIGINAL-URL:https://www.mwany.org
X-WR-CALDESC:Events for Mystery Writers of America - New York Chapter
REFRESH-INTERVAL;VALUE=DURATION:PT1H
X-Robots-Tag:noindex
X-PUBLISHED-TTL:PT1H
BEGIN:VTIMEZONE
TZID:America/New_York
BEGIN:DAYLIGHT
TZOFFSETFROM:-0500
TZOFFSETTO:-0400
TZNAME:EDT
DTSTART:20230312T070000
END:DAYLIGHT
BEGIN:STANDARD
TZOFFSETFROM:-0400
TZOFFSETTO:-0500
TZNAME:EST
DTSTART:20231105T060000
END:STANDARD
BEGIN:DAYLIGHT
TZOFFSETFROM:-0500
TZOFFSETTO:-0400
TZNAME:EDT
DTSTART:20240310T070000
END:DAYLIGHT
BEGIN:STANDARD
TZOFFSETFROM:-0400
TZOFFSETTO:-0500
TZNAME:EST
DTSTART:20241103T060000
END:STANDARD
BEGIN:DAYLIGHT
TZOFFSETFROM:-0500
TZOFFSETTO:-0400
TZNAME:EDT
DTSTART:20250309T070000
END:DAYLIGHT
BEGIN:STANDARD
TZOFFSETFROM:-0400
TZOFFSETTO:-0500
TZNAME:EST
DTSTART:20251102T060000
END:STANDARD
END:VTIMEZONE
BEGIN:VEVENT
DTSTART;TZID=America/New_York:20240511T120000
DTEND;TZID=America/New_York:20240511T140000
DTSTAMP:20260426T002422
CREATED:20240508T200009Z
LAST-MODIFIED:20240509T193602Z
UID:5574-1715428800-1715436000@www.mwany.org
SUMMARY:The New York Chapter of Mystery Writers of America presents Mystery Authors
DESCRIPTION:  \nMystery authors Cathi Stoler\, Elle Hartford\, and Gary Cahill read to you from their stories beginning at noon on Saturday\, May 11\, at the East 58th Street branch of the New York Public Library (127 East 58th Street\, between Lexington and Park Avenues). For more information please email: info@mwany.org.
URL:https://www.mwany.org/event/the-new-york-chapter-of-mystery-writers-of-america-presents-mystery-authors/
LOCATION:NY Public Library East 58th Street\, 127 East 58th Street\, New York\, NY\, United States
ORGANIZER;CN="Mystery Writers of American NY":MAILTO:info@mwany.org
END:VEVENT
BEGIN:VEVENT
DTSTART;TZID=America/New_York:20240522T183000
DTEND;TZID=America/New_York:20240522T200000
DTSTAMP:20260426T002422
CREATED:20240221T160812Z
LAST-MODIFIED:20240304T201245Z
UID:5323-1716402600-1716408000@www.mwany.org
SUMMARY:Upcoming Literary Event! Plotting Intrigue
DESCRIPTION:May 22 Maplewood Library Hilton Branch 1688 Springfield Ave.\, Maplewood\, NJ\n6:30 p.m.\nPlotting Intrigue Join us for an exploration into the minds of mystery writers as they unravel the secrets behind crafting captivating plots. Our panel will share their strategies for keeping readers on the edge of their seats. Discover how these authors draw from imagination\, real-life events and research to create complex characters and engaging narratives. A Q&A will follow. The event also will feature a networking opportunity for local authors after the discussion. \nModerator: Russ Colchamiro\nPanelists: Peggy Erhart; James Hockenberry; Gerri Lewis; Jeff Markowitz
URL:https://www.mwany.org/event/upcoming-literary-eventl-plotting-intrigue/
LOCATION:Maplewood Lubrary Hilton Branch\, 1688 Springfield Ave.\, Maplewood\, NJ
CATEGORIES:Writing Craft
END:VEVENT
END:VCALENDAR