BEGIN:VCALENDAR
VERSION:2.0
PRODID:-//Mystery Writers of America - New York Chapter - ECPv6.15.20//NONSGML v1.0//EN
CALSCALE:GREGORIAN
METHOD:PUBLISH
X-ORIGINAL-URL:https://www.mwany.org
X-WR-CALDESC:Events for Mystery Writers of America - New York Chapter
REFRESH-INTERVAL;VALUE=DURATION:PT1H
X-Robots-Tag:noindex
X-PUBLISHED-TTL:PT1H
BEGIN:VTIMEZONE
TZID:America/New_York
BEGIN:DAYLIGHT
TZOFFSETFROM:-0500
TZOFFSETTO:-0400
TZNAME:EDT
DTSTART:20230312T070000
END:DAYLIGHT
BEGIN:STANDARD
TZOFFSETFROM:-0400
TZOFFSETTO:-0500
TZNAME:EST
DTSTART:20231105T060000
END:STANDARD
BEGIN:DAYLIGHT
TZOFFSETFROM:-0500
TZOFFSETTO:-0400
TZNAME:EDT
DTSTART:20240310T070000
END:DAYLIGHT
BEGIN:STANDARD
TZOFFSETFROM:-0400
TZOFFSETTO:-0500
TZNAME:EST
DTSTART:20241103T060000
END:STANDARD
BEGIN:DAYLIGHT
TZOFFSETFROM:-0500
TZOFFSETTO:-0400
TZNAME:EDT
DTSTART:20250309T070000
END:DAYLIGHT
BEGIN:STANDARD
TZOFFSETFROM:-0400
TZOFFSETTO:-0500
TZNAME:EST
DTSTART:20251102T060000
END:STANDARD
END:VTIMEZONE
BEGIN:VEVENT
DTSTART;TZID=America/New_York:20240907T120000
DTEND;TZID=America/New_York:20240907T120000
DTSTAMP:20260425T141221
CREATED:20240628T210256Z
LAST-MODIFIED:20240628T210256Z
UID:5733-1725710400-1725710400@www.mwany.org
SUMMARY:Next Manhattan Mystery Reading Saturday\, September 7! (Immediately Followed by Proofreading Slam!)
DESCRIPTION:Come hear three MWA-NY authors read from their work on Saturday September 7\, starting at noon in the 58th Street Library (127 East 58th Street\, between Park and Lexington Avenues):  Philip Cioffari (novelist\, playwright\, and writing teacher ); Nancy Good (author of New York-based humorous mysteries; and Ken Jaworowski (New York Times editor whose first novel was an Edgar nominee this year). \nThen stay for our first Proofreading Slam\, a new in-person and online initiative to support members who have a work-in-progress. Board member Nev March\, Sheila Mayhew\, or Beth Mannion will sit with you to proofread up to twenty pages of your WIP. All participants must attend with printed pages (1″ margins\, double-spaced). If your WIP is already under contract\, please also attend with your press’s style sheet (this need not be printed if it’s long; you can call it up on your laptop or tablet … just not on a phone\, please\, too small!). We’ll be sending out an email blast closer to the date with more details and for members to register. We expect to be able to accommodate 6-9 authors in this first Slam.
URL:https://www.mwany.org/event/next-manhattan-mystery-reading-saturday-september-7-immediately-followed-by-proofreading-slam/
LOCATION:58th Street Library\, 127 East 58th Street (between Park and Lexington Avenues)\, New York\, United States
CATEGORIES:Readings
ORGANIZER;CN="Mystery Writers of American NY":MAILTO:info@mwany.org
END:VEVENT
BEGIN:VEVENT
DTSTART;TZID=America/New_York:20240907T120000
DTEND;TZID=America/New_York:20240907T160000
DTSTAMP:20260425T141221
CREATED:20240626T172152Z
LAST-MODIFIED:20240626T172801Z
UID:5714-1725710400-1725724800@www.mwany.org
SUMMARY:Save the Date: Summer Proofreading Slam
DESCRIPTION:The Board is developing a schedule of in-person and online Proofreading Slams to support members witih a work-in-progress. The first in-person Slam will be held on Saturday\, September 7\, at 2:15pm (following the Manhattan Mystery Reading) at the 58th Street Library. Board member Nev March\, Sheila Mayhew\, or Beth Mannion will sit with you to proofread up to 20 pages of your WIP. All participants must attend with printed (1″ margins\, double-spaced) pages. If your WIP is already under contract\, please also attend with your press’s style sheet (this need not be printed if it’s long; you can call it up on your laptop or tablet … just not on a phone\, please\, too small!). We’ll be sending out an email blast closer to the date with more details and for members to register. We expect to be able to accomodate 6-9 authors in this first Slam. \nCome at noon for the author readings; the proofreading Slam will begin immediately after.
URL:https://www.mwany.org/event/save-the-date-summer-proofreading-slam/
LOCATION:NY Public Library East 58th Street\, 127 East 58th Street\, New York\, NY\, United States
ORGANIZER;CN="Mystery Writers of American NY":MAILTO:info@mwany.org
END:VEVENT
BEGIN:VEVENT
DTSTART;TZID=America/New_York:20240911T100000
DTEND;TZID=America/New_York:20240911T160000
DTSTAMP:20260425T141221
CREATED:20240820T214249Z
LAST-MODIFIED:20240820T214249Z
UID:5925-1726048800-1726070400@www.mwany.org
SUMMARY:Writing Workshop from Our Partners at Sisters in Crime
DESCRIPTION:The NY/Tri-State Chapter of Sisters in Crime is hosting a writing workshop with Hank Philippi Ryan from 10 am to 4 pm on September 11 at Ripley-Grier Studios\, 520 Eighth Avenue\, NYC. Ryan\, an investigative reporter for WHDH-TV\, Boston and the author of several mystery novels. will also be critiquing the first 250 words of manuscripts.  The cost is $25 for members of the Sisters in Crime chapter and $60 for nonmembers. Anyone interested should fill out this form (which includes payment information):\nhttps://forms.gle/mCgA45NfKpYLJHNr8\nEmail nytristatesinc@gmail.com with any questions \n  \n  \n  \n 
URL:https://www.mwany.org/event/writing-workshop-from-our-partners-at-sisters-in-crime/
LOCATION:Ripley-Grier Studios\, 520 Eighth Ave\, New York
CATEGORIES:Writing Craft
ATTACH;FMTTYPE=image/png:https://www.mwany.org/wp-content/uploads/2024/08/SIC.png
END:VEVENT
BEGIN:VEVENT
DTSTART;TZID=America/New_York:20240924T181500
DTEND;TZID=America/New_York:20240924T194500
DTSTAMP:20260425T141221
CREATED:20240717T230337Z
LAST-MODIFIED:20240717T230337Z
UID:5801-1727201700-1727207100@www.mwany.org
SUMMARY:"The Spark of Inspiration"
DESCRIPTION:  \nWhere does the idea for a mystery come from? Is the story triggered by a news article\, a real-life crime or a dream? Are there any particular places or incidents that you draw on when you find yourself with writer’s block? This panel discussion with four mystery authors will provide insight into inspiration. Venue: Montclair Public Library\, 50 South Fullerton Avenue\, Montclair\, NJ.\n  \n  \n  \n 
URL:https://www.mwany.org/event/the-spark-of-inspiration/
LOCATION:Montclair Public Library\, 50 S. Fullerton Ave.\, Montclair\, NJ\, United States
ORGANIZER;CN="Mystery Writers of American NY":MAILTO:info@mwany.org
END:VEVENT
END:VCALENDAR