BEGIN:VCALENDAR
VERSION:2.0
PRODID:-//Mystery Writers of America - New York Chapter - ECPv6.15.20//NONSGML v1.0//EN
CALSCALE:GREGORIAN
METHOD:PUBLISH
X-WR-CALNAME:Mystery Writers of America - New York Chapter
X-ORIGINAL-URL:https://www.mwany.org
X-WR-CALDESC:Events for Mystery Writers of America - New York Chapter
REFRESH-INTERVAL;VALUE=DURATION:PT1H
X-Robots-Tag:noindex
X-PUBLISHED-TTL:PT1H
BEGIN:VTIMEZONE
TZID:America/New_York
BEGIN:DAYLIGHT
TZOFFSETFROM:-0500
TZOFFSETTO:-0400
TZNAME:EDT
DTSTART:20240310T070000
END:DAYLIGHT
BEGIN:STANDARD
TZOFFSETFROM:-0400
TZOFFSETTO:-0500
TZNAME:EST
DTSTART:20241103T060000
END:STANDARD
BEGIN:DAYLIGHT
TZOFFSETFROM:-0500
TZOFFSETTO:-0400
TZNAME:EDT
DTSTART:20250309T070000
END:DAYLIGHT
BEGIN:STANDARD
TZOFFSETFROM:-0400
TZOFFSETTO:-0500
TZNAME:EST
DTSTART:20251102T060000
END:STANDARD
BEGIN:DAYLIGHT
TZOFFSETFROM:-0500
TZOFFSETTO:-0400
TZNAME:EDT
DTSTART:20260308T070000
END:DAYLIGHT
BEGIN:STANDARD
TZOFFSETFROM:-0400
TZOFFSETTO:-0500
TZNAME:EST
DTSTART:20261101T060000
END:STANDARD
END:VTIMEZONE
BEGIN:VEVENT
DTSTART;TZID=America/New_York:20250207T133000
DTEND;TZID=America/New_York:20250207T153000
DTSTAMP:20260421T204405
CREATED:20241121T042029Z
LAST-MODIFIED:20241122T222543Z
UID:6158-1738935000-1738942200@www.mwany.org
SUMMARY:Behind the Darkness: True Crime
DESCRIPTION:What is the appeal of this type of story? How does an author select the real-life tragedy and conduct research? What are the moral considerations in opening old wounds? Hear how three authors peal back the layers on this terrifying and addictive genre. Event free for women’s club members and suggested $10 donation for non-members. Parking is available behind the club and refreshments will be served. \nRegistration link: https://lp.constantcontactpages.com/ev/reg/k5x3j2y
URL:https://www.mwany.org/event/behind-the-darkness-true-crime/
LOCATION:Montclair Women’s Club\, 82 Union Street\, Montclair\, NJ
ORGANIZER;CN="Mystery Writers of American NY":MAILTO:info@mwany.org
END:VEVENT
BEGIN:VEVENT
DTSTART;TZID=America/New_York:20250215T080000
DTEND;TZID=America/New_York:20250215T170000
DTSTAMP:20260421T204405
CREATED:20250215T230009Z
LAST-MODIFIED:20250215T230009Z
UID:6340-1739606400-1739638800@www.mwany.org
SUMMARY:Crime Craft: How Can Crime Writers Gain More Publicity?
DESCRIPTION:  \n \nTerena Bell is a book publicist and fiction writer. As a publicist\, she’s secured clients coverage the Today show\, Good Housekeeping\, NPR\, BookRiot\, and others. Her own debut short fiction collection\, Tell Me What You See (Whiskey Tit)\, published in December 2022\, was recently named one of “the best books of the 21st century (so far)” by New York Society Library. Learn more at www.terenabellpr.wordpress.com \nTuesday February 18\, 2025 @6:00 PM Eastern Time (US and Canada) \nZoom link here: https://groups.io/g/MWA-NY/topic/110676080 \nIMPORTANT: CrimeCraft will be on the third Tuesday of the month \n  \n 
URL:https://www.mwany.org/event/crime-craft-how-can-crime-writers-gain-more-publicity/
END:VEVENT
BEGIN:VEVENT
DTSTART;TZID=America/New_York:20250221T133000
DTEND;TZID=America/New_York:20250221T153000
DTSTAMP:20260421T204405
CREATED:20241121T151220Z
LAST-MODIFIED:20241122T223433Z
UID:6163-1740144600-1740151800@www.mwany.org
SUMMARY:Crime Without the Blood: Cozy Mysteries
DESCRIPTION:  \n \n  \nHow do you conceive a diverting puzzle without explicit violence? How do you create a sense of danger and build suspense? What is the secret to sprinkling red herrings to keep readers guessing? Three mystery authors will spin a web of intrigue. Event free for women’s club members and $10 for non-members. Parking is available behind the club and refreshments will be served.\nRegistration link: https://lp.constantcontactpages.com/ev/reg/ednhh4f \n  \n  \n  \n 
URL:https://www.mwany.org/event/crime-without-the-blood-cozy-mysteries/
LOCATION:Montclair Women’s Club\, 82 Union Street\, Montclair\, NJ
ORGANIZER;CN="Mystery Writers of American NY":MAILTO:info@mwany.org
END:VEVENT
END:VCALENDAR