BEGIN:VCALENDAR
VERSION:2.0
PRODID:-//Mystery Writers of America - New York Chapter - ECPv6.15.20//NONSGML v1.0//EN
CALSCALE:GREGORIAN
METHOD:PUBLISH
X-WR-CALNAME:Mystery Writers of America - New York Chapter
X-ORIGINAL-URL:https://www.mwany.org
X-WR-CALDESC:Events for Mystery Writers of America - New York Chapter
REFRESH-INTERVAL;VALUE=DURATION:PT1H
X-Robots-Tag:noindex
X-PUBLISHED-TTL:PT1H
BEGIN:VTIMEZONE
TZID:America/New_York
BEGIN:DAYLIGHT
TZOFFSETFROM:-0500
TZOFFSETTO:-0400
TZNAME:EDT
DTSTART:20240310T070000
END:DAYLIGHT
BEGIN:STANDARD
TZOFFSETFROM:-0400
TZOFFSETTO:-0500
TZNAME:EST
DTSTART:20241103T060000
END:STANDARD
BEGIN:DAYLIGHT
TZOFFSETFROM:-0500
TZOFFSETTO:-0400
TZNAME:EDT
DTSTART:20250309T070000
END:DAYLIGHT
BEGIN:STANDARD
TZOFFSETFROM:-0400
TZOFFSETTO:-0500
TZNAME:EST
DTSTART:20251102T060000
END:STANDARD
BEGIN:DAYLIGHT
TZOFFSETFROM:-0500
TZOFFSETTO:-0400
TZNAME:EDT
DTSTART:20260308T070000
END:DAYLIGHT
BEGIN:STANDARD
TZOFFSETFROM:-0400
TZOFFSETTO:-0500
TZNAME:EST
DTSTART:20261101T060000
END:STANDARD
END:VTIMEZONE
BEGIN:VEVENT
DTSTART;TZID=America/New_York:20250726T140000
DTEND;TZID=America/New_York:20250726T160000
DTSTAMP:20260419T155524
CREATED:20250621T162713Z
LAST-MODIFIED:20250621T162713Z
UID:6683-1753538400-1753545600@www.mwany.org
SUMMARY:LONG ISLAND MWA-NY GROUP GET-TOGETHER
DESCRIPTION:WELCOME MYSTERY WRITERS OF AMERICA N.Y. CHAPTER\nTO THE 3rd LONG ISLAND MWA-NY GROUP GET-TOGETHER\nAT PANERA BREAD IN WEST BABYLON.\nOPEN TO ALL MEMEBERS IN MANHATTAN\, BRONX\, BROOKLYN & QUEENS \nWITH SPECIAL GUEST SPEAKER JOHN FERRISO \nPOLICE PROCEDURAL TECHNICAL ADVISOR AND A BOARD MEMBER OF SISTERS IN CRIME -CT. \n \nJOIN US ON SATURDAY JULY 26th AT PANERA BREAD 1025 MONTAUK HWY WEST BABYLON\n2 p.m. – 4p.m. PLENTY OF PARKING\nGet to meet John\, learn the top 3 things writers get wrong about Police procedures.\nRSVP IS A MUST (by Thursday July 10th)\nE MAIL michaeljhallvoa@yahoo.com to RSVP and get on the list.\nBring a plus one or writer friend. You never can tell; they might want to join MWA.
URL:https://www.mwany.org/event/long-island-mwa-ny-group-get-together/
LOCATION:PANERA BREAD\, 1025 MONTAUK HWY\, WEST BABYLON\, United States
ATTACH;FMTTYPE=image/jpeg:https://www.mwany.org/wp-content/uploads/2025/06/jpg-MWA-LONG-ISLAND-JULY-26-rev-scaled.jpg
ORGANIZER;CN="Mystery Writers of American NY":MAILTO:info@mwany.org
END:VEVENT
BEGIN:VEVENT
DTSTART;TZID=America/New_York:20250728T080000
DTEND;TZID=America/New_York:20250728T170000
DTSTAMP:20260419T155524
CREATED:20250728T171711Z
LAST-MODIFIED:20250728T171732Z
UID:6764-1753689600-1753722000@www.mwany.org
SUMMARY:Five MWA Authors on Tap for August 9 Reading
DESCRIPTION:  \n \nFive members of Mystery Writers of America (MWA) will read aloud from their work from noon to 2:00 p.m. on Saturday\, August 9\, at the 58th Street branch of the New York Public Library. \nLyndsay Faye is the author of seven novels and two short story collections. She lives in Ridgewood\, Queens. \nMichael Northrop is the author of sixteen best-selling books for young readers. He is currently writing mysteries for adults and will read from the first novel in that new series. \nKatie Tietjen‘s Edgar-nominated debut novel\, Death in the Details\, was inspired by the mother of forensic science\, Frances\nGlessner Lee\, who created tiny replicas of death scenes called the Nutshell Studies of Unexplained Death. Tietjen’s protagonist\, Maple\, uses her miniature-making skills to get to the bottom of a mysterious death in her small Vermont town. \nJoanna Margaret holds a PhD in history\, specifically Florentine aristocrats in sixteenth-century France. She will read an\nexcerpt from her Dark Academia novel\, The Bequest. \nHal Glatzer\, an MWA author since 1986\, is vice president of MWA’s New York chapter\, best known for historical mysteries. But his latest are set in the present day; he will read from the second book in his Friends With Benefits series. \nThe room for the Authors’ Readings is up one flight of stairs; there is no elevator. \nThe library is at 127 East 58th Street.\, between Park and Lexington Avenues. The 4\, 5\, N\, and R trains stop at 59th /Lex; the E stops at 53rd /Lex. Buses run north on Third Avenue and South on Lex. The M57 and M31 buses run crosstown on 57th Street. \nFor more information email the New York chapter of MWA: info@mwany.org
URL:https://www.mwany.org/event/five-mwa-authors-on-tap-for-august-9-reading/
CATEGORIES:Readings
END:VEVENT
END:VCALENDAR