BEGIN:VCALENDAR
VERSION:2.0
PRODID:-//Mystery Writers of America - New York Chapter - ECPv6.15.20//NONSGML v1.0//EN
CALSCALE:GREGORIAN
METHOD:PUBLISH
X-WR-CALNAME:Mystery Writers of America - New York Chapter
X-ORIGINAL-URL:https://www.mwany.org
X-WR-CALDESC:Events for Mystery Writers of America - New York Chapter
REFRESH-INTERVAL;VALUE=DURATION:PT1H
X-Robots-Tag:noindex
X-PUBLISHED-TTL:PT1H
BEGIN:VTIMEZONE
TZID:America/New_York
BEGIN:DAYLIGHT
TZOFFSETFROM:-0500
TZOFFSETTO:-0400
TZNAME:EDT
DTSTART:20240310T070000
END:DAYLIGHT
BEGIN:STANDARD
TZOFFSETFROM:-0400
TZOFFSETTO:-0500
TZNAME:EST
DTSTART:20241103T060000
END:STANDARD
BEGIN:DAYLIGHT
TZOFFSETFROM:-0500
TZOFFSETTO:-0400
TZNAME:EDT
DTSTART:20250309T070000
END:DAYLIGHT
BEGIN:STANDARD
TZOFFSETFROM:-0400
TZOFFSETTO:-0500
TZNAME:EST
DTSTART:20251102T060000
END:STANDARD
BEGIN:DAYLIGHT
TZOFFSETFROM:-0500
TZOFFSETTO:-0400
TZNAME:EDT
DTSTART:20260308T070000
END:DAYLIGHT
BEGIN:STANDARD
TZOFFSETFROM:-0400
TZOFFSETTO:-0500
TZNAME:EST
DTSTART:20261101T060000
END:STANDARD
END:VTIMEZONE
BEGIN:VEVENT
DTSTART;TZID=America/New_York:20250802T110000
DTEND;TZID=America/New_York:20250802T130000
DTSTAMP:20260419T172630
CREATED:20250726T173044Z
LAST-MODIFIED:20250726T173044Z
UID:6756-1754132400-1754139600@www.mwany.org
SUMMARY:MWA-NY Northern New Jersey/Rockland-Westchester NY Area Get-Together and Brunch
DESCRIPTION:Join us on Saturday\, August 2nd to meet and talk with fellow writers. Enjoy a brunch-time meal (separate checks) while you meet your fellow writers and MWA-NY members. You’re welcome to bring a plus-one! PLEASE RSVP BY JULY 28th.\nDATE: Saturday\, August 2nd\nTIME: 11:00 AM – 1:00 PM\nWHERE: Shannon Rose Restaurant\n1200 Route 17 North\nRamsey\, New Jersey\nOrganizer: Carol Binkowski
URL:https://www.mwany.org/event/mwa-ny-northern-new-jersey-rockland-westchester-ny-area-get-together-and-brunch/
END:VEVENT
BEGIN:VEVENT
DTSTART;TZID=America/New_York:20250824T163000
DTEND;TZID=America/New_York:20250824T183000
DTSTAMP:20260419T172630
CREATED:20250730T184356Z
LAST-MODIFIED:20250730T184356Z
UID:6787-1756053000-1756060200@www.mwany.org
SUMMARY:Please join us on Sunday\, August 24\, to meet\, greet\, and share ideas with members from the MWA-NY Chapter’s  Metro New Jersey and surrounding areas local group.
DESCRIPTION:Please join us on Sunday\, August 24\, to meet\, greet\, and share ideas with members from the MWA-NY Chapter’s Metro New Jersey and surrounding areas local group. \nCome early to Upper Montclair\, New Jersey\, and stroll Valley Road and enjoy summertime in beautiful Alexander Park. \nThen join fellow writers for a tasty early dinner at nearby Veggie Heaven from 4:30-6:30 (separate checks). You’re welcome to bring a plus-one. Please include them on the RSVP. \nDATE: Sunday\, August 24\nTIME: 4:30 p.m. – 6:30 p.m.\nWHERE: Veggie Heaven\n631 Valley Road\nMontclair\, NJ \nOrganizer: Carol Binkowski \nPLEASE RSVP HERE
URL:https://www.mwany.org/event/please-join-us-on-sunday-august-24-to-meet-greet-and-share-ideas-with-members-from-the-mwa-ny-chapters-metro-new-jersey-and-surrounding-areas-local-group/
LOCATION:Veggie Heaven\, 631 Valley Road\, Montclair\, NJ\, United States
END:VEVENT
BEGIN:VEVENT
DTSTART;TZID=America/New_York:20250830T080000
DTEND;TZID=America/New_York:20250830T170000
DTSTAMP:20260419T172630
CREATED:20250831T001905Z
LAST-MODIFIED:20250831T001905Z
UID:6835-1756540800-1756573200@www.mwany.org
SUMMARY:Special Zoom Event: How to Write An Agent Query Letter
DESCRIPTION:  \nJoin literary agent Ayla Zuraw-Friedland on Saturday\, September 13\, for a discussion on how to craft a compelling query letter that will help your submission stand out and catch the attention of agents! \nSaturday\, September 13\, 2025 4:00 p.m. \nhttps://us06web.zoom.us/j/83794864332?pwd=sZ4GSNGYygUCr6hySlym6Y0P9i9pM4.1
URL:https://www.mwany.org/event/special-zoom-event-how-to-write-an-agent-query-letter/
END:VEVENT
END:VCALENDAR