BEGIN:VCALENDAR
VERSION:2.0
PRODID:-//Mystery Writers of America - New York Chapter - ECPv6.15.20//NONSGML v1.0//EN
CALSCALE:GREGORIAN
METHOD:PUBLISH
X-WR-CALNAME:Mystery Writers of America - New York Chapter
X-ORIGINAL-URL:https://www.mwany.org
X-WR-CALDESC:Events for Mystery Writers of America - New York Chapter
REFRESH-INTERVAL;VALUE=DURATION:PT1H
X-Robots-Tag:noindex
X-PUBLISHED-TTL:PT1H
BEGIN:VTIMEZONE
TZID:America/New_York
BEGIN:DAYLIGHT
TZOFFSETFROM:-0500
TZOFFSETTO:-0400
TZNAME:EDT
DTSTART:20230312T070000
END:DAYLIGHT
BEGIN:STANDARD
TZOFFSETFROM:-0400
TZOFFSETTO:-0500
TZNAME:EST
DTSTART:20231105T060000
END:STANDARD
BEGIN:DAYLIGHT
TZOFFSETFROM:-0500
TZOFFSETTO:-0400
TZNAME:EDT
DTSTART:20240310T070000
END:DAYLIGHT
BEGIN:STANDARD
TZOFFSETFROM:-0400
TZOFFSETTO:-0500
TZNAME:EST
DTSTART:20241103T060000
END:STANDARD
BEGIN:DAYLIGHT
TZOFFSETFROM:-0500
TZOFFSETTO:-0400
TZNAME:EDT
DTSTART:20250309T070000
END:DAYLIGHT
BEGIN:STANDARD
TZOFFSETFROM:-0400
TZOFFSETTO:-0500
TZNAME:EST
DTSTART:20251102T060000
END:STANDARD
END:VTIMEZONE
BEGIN:VEVENT
DTSTART;TZID=America/New_York:20241026T110000
DTEND;TZID=America/New_York:20241026T170000
DTSTAMP:20260419T205418
CREATED:20240805T134550Z
LAST-MODIFIED:20241024T204853Z
UID:5820-1729940400-1729962000@www.mwany.org
SUMMARY:THE ROAD TO PUBLICATION
DESCRIPTION:  \n  \n \n\n\n\nTHIS SATURDAY you are invited to our discussion on THE ROAD TO PUBLICATION.  \nAn expert panel of editors and authors will provide insight on how to get your manuscript from the dream stage to a book in a reader’s hands. BRING FRIENDS\, MEET THE DISTINGUISHED SPEAKERS\, AND ENJOY THIS LIVELY AND INFORMATIVE PANEL \nLOCATION: MORRISTOWN & MORRIS TOWNSHIP PUBLIC LIBRARY (1 Miller Road in Morristown\, NJ) \nTIME: October 26\, 2024  1-3 p.m. (Networking 3-4 p.m.) \n Zoom Link: https://us06web.zoom.us/j/85322494368?pwd=XNSbHrJfRbKxWVaQHbkiraG9QfbbYE.1 \nRSVP Chapter members who would like to join for a sandwich lunch at noon please email Nev at president@mwany.org. \nENJOY A SANDWICH LUNCHEON\, AN EXCHANGE OF IDEAS AND AN OPPORTUNITY TO NETWORK! \n 
URL:https://www.mwany.org/event/the-road-to-publication/
ORGANIZER;CN="Mystery Writers of American NY":MAILTO:info@mwany.org
END:VEVENT
END:VCALENDAR