BEGIN:VCALENDAR
VERSION:2.0
PRODID:-//Mystery Writers of America - New York Chapter - ECPv6.15.20//NONSGML v1.0//EN
CALSCALE:GREGORIAN
METHOD:PUBLISH
X-ORIGINAL-URL:https://www.mwany.org
X-WR-CALDESC:Events for Mystery Writers of America - New York Chapter
REFRESH-INTERVAL;VALUE=DURATION:PT1H
X-Robots-Tag:noindex
X-PUBLISHED-TTL:PT1H
BEGIN:VTIMEZONE
TZID:America/New_York
BEGIN:DAYLIGHT
TZOFFSETFROM:-0500
TZOFFSETTO:-0400
TZNAME:EDT
DTSTART:20240310T070000
END:DAYLIGHT
BEGIN:STANDARD
TZOFFSETFROM:-0400
TZOFFSETTO:-0500
TZNAME:EST
DTSTART:20241103T060000
END:STANDARD
BEGIN:DAYLIGHT
TZOFFSETFROM:-0500
TZOFFSETTO:-0400
TZNAME:EDT
DTSTART:20250309T070000
END:DAYLIGHT
BEGIN:STANDARD
TZOFFSETFROM:-0400
TZOFFSETTO:-0500
TZNAME:EST
DTSTART:20251102T060000
END:STANDARD
BEGIN:DAYLIGHT
TZOFFSETFROM:-0500
TZOFFSETTO:-0400
TZNAME:EDT
DTSTART:20260308T070000
END:DAYLIGHT
BEGIN:STANDARD
TZOFFSETFROM:-0400
TZOFFSETTO:-0500
TZNAME:EST
DTSTART:20261101T060000
END:STANDARD
END:VTIMEZONE
BEGIN:VEVENT
DTSTART;TZID=America/New_York:20250221T133000
DTEND;TZID=America/New_York:20250221T153000
DTSTAMP:20260420T042404
CREATED:20241121T151220Z
LAST-MODIFIED:20241122T223433Z
UID:6163-1740144600-1740151800@www.mwany.org
SUMMARY:Crime Without the Blood: Cozy Mysteries
DESCRIPTION:  \n \n  \nHow do you conceive a diverting puzzle without explicit violence? How do you create a sense of danger and build suspense? What is the secret to sprinkling red herrings to keep readers guessing? Three mystery authors will spin a web of intrigue. Event free for women’s club members and $10 for non-members. Parking is available behind the club and refreshments will be served.\nRegistration link: https://lp.constantcontactpages.com/ev/reg/ednhh4f \n  \n  \n  \n 
URL:https://www.mwany.org/event/crime-without-the-blood-cozy-mysteries/
LOCATION:Montclair Women’s Club\, 82 Union Street\, Montclair\, NJ
ORGANIZER;CN="Mystery Writers of American NY":MAILTO:info@mwany.org
END:VEVENT
END:VCALENDAR