BEGIN:VCALENDAR
VERSION:2.0
PRODID:-//Mystery Writers of America - New York Chapter - ECPv6.15.20//NONSGML v1.0//EN
CALSCALE:GREGORIAN
METHOD:PUBLISH
X-WR-CALNAME:Mystery Writers of America - New York Chapter
X-ORIGINAL-URL:https://www.mwany.org
X-WR-CALDESC:Events for Mystery Writers of America - New York Chapter
REFRESH-INTERVAL;VALUE=DURATION:PT1H
X-Robots-Tag:noindex
X-PUBLISHED-TTL:PT1H
BEGIN:VTIMEZONE
TZID:America/New_York
BEGIN:DAYLIGHT
TZOFFSETFROM:-0500
TZOFFSETTO:-0400
TZNAME:EDT
DTSTART:20230312T070000
END:DAYLIGHT
BEGIN:STANDARD
TZOFFSETFROM:-0400
TZOFFSETTO:-0500
TZNAME:EST
DTSTART:20231105T060000
END:STANDARD
BEGIN:DAYLIGHT
TZOFFSETFROM:-0500
TZOFFSETTO:-0400
TZNAME:EDT
DTSTART:20240310T070000
END:DAYLIGHT
BEGIN:STANDARD
TZOFFSETFROM:-0400
TZOFFSETTO:-0500
TZNAME:EST
DTSTART:20241103T060000
END:STANDARD
BEGIN:DAYLIGHT
TZOFFSETFROM:-0500
TZOFFSETTO:-0400
TZNAME:EDT
DTSTART:20250309T070000
END:DAYLIGHT
BEGIN:STANDARD
TZOFFSETFROM:-0400
TZOFFSETTO:-0500
TZNAME:EST
DTSTART:20251102T060000
END:STANDARD
END:VTIMEZONE
BEGIN:VEVENT
DTSTART;TZID=America/New_York:20240815T230200
DTEND;TZID=America/New_York:20240815T230200
DTSTAMP:20260421T002434
CREATED:20240815T230401Z
LAST-MODIFIED:20240815T230401Z
UID:5892-1723762920-1723762920@www.mwany.org
SUMMARY:Yes! MWA University Returns!  Virtual Webinars on or Around the First Wednesday of Each Month.
DESCRIPTION:The next session will be on Wednesday\, September 4th\, 8:00 p.m. NY time.  It will feature Daniel Stashower\, discussing setting.\nDaniel says: “Powerful settings have always been essential to the mystery story\, from Poe’s ‘rank sedges\, vacant eye-like windows and white trunks of decayed trees’ to I. S. Berry’s ‘noncontiguous streets\, noises without origin or purpose\, and angles that didn’t quite fit together.”’  As MWA Grand Master P.bD. James noted\, “Setting\, important in any work of fiction\, is particularly so in a detective story. It establishes atmosphere\, influences plot and character\,and enhances the horror of murder.”\nTo register or learn more information about past webinars\, visit this link:\nhttps://mysterywriters.org/mwa-literacy-programs/2024-mwa-university/
URL:https://www.mwany.org/event/yes-mwa-university-returns-virtual-webinars-on-or-around-the-first-wednesday-of-each-month/
LOCATION:Zoom
END:VEVENT
END:VCALENDAR