BEGIN:VCALENDAR
VERSION:2.0
PRODID:-//Mystery Writers of America - New York Chapter - ECPv6.15.20//NONSGML v1.0//EN
CALSCALE:GREGORIAN
METHOD:PUBLISH
X-WR-CALNAME:Mystery Writers of America - New York Chapter
X-ORIGINAL-URL:https://www.mwany.org
X-WR-CALDESC:Events for Mystery Writers of America - New York Chapter
REFRESH-INTERVAL;VALUE=DURATION:PT1H
X-Robots-Tag:noindex
X-PUBLISHED-TTL:PT1H
BEGIN:VTIMEZONE
TZID:America/New_York
BEGIN:DAYLIGHT
TZOFFSETFROM:-0500
TZOFFSETTO:-0400
TZNAME:EDT
DTSTART:20230312T070000
END:DAYLIGHT
BEGIN:STANDARD
TZOFFSETFROM:-0400
TZOFFSETTO:-0500
TZNAME:EST
DTSTART:20231105T060000
END:STANDARD
BEGIN:DAYLIGHT
TZOFFSETFROM:-0500
TZOFFSETTO:-0400
TZNAME:EDT
DTSTART:20240310T070000
END:DAYLIGHT
BEGIN:STANDARD
TZOFFSETFROM:-0400
TZOFFSETTO:-0500
TZNAME:EST
DTSTART:20241103T060000
END:STANDARD
BEGIN:DAYLIGHT
TZOFFSETFROM:-0500
TZOFFSETTO:-0400
TZNAME:EDT
DTSTART:20250309T070000
END:DAYLIGHT
BEGIN:STANDARD
TZOFFSETFROM:-0400
TZOFFSETTO:-0500
TZNAME:EST
DTSTART:20251102T060000
END:STANDARD
END:VTIMEZONE
BEGIN:VEVENT
DTSTART;TZID=America/New_York:20240728T000000
DTEND;TZID=America/New_York:20240728T000000
DTSTAMP:20260423T085146
CREATED:20240620T191940Z
LAST-MODIFIED:20240717T231122Z
UID:5692-1722124800-1722124800@www.mwany.org
SUMMARY:Join Us at the Hudson Valley Shakespeare Festival on July 28!
DESCRIPTION:  \nPhoto: Patricia King\nThe date has been set for an MWA-NY outing to the Hudson Valley Shakespeare Festival (HVSF) to attend the 5pm performance of The Murder of Roger Ackroyd. This play\, an adaptation of the Agatha Christie novel\, is a world premiere. A reporter from The New Yorker will likely be joining us to interview the group to hear what seasoned crime writers think about the play. It’s a terrific opportunity to see each other in person\, enjoy the play\, and maybe\, just maybe\, appear in print in The New Yorker. A win-win all around! With 12-16 participants\, Patricia will be able to secure a 20% discount on the ticket price. Please email her (with HVSF MWA in the subject line) at\npk@patriciaking.nyc to reserve your place for the 5pm curtain on Sunday\, July 28. \n 
URL:https://www.mwany.org/event/the-murder-of-roger-ackroyd-at-hudson-valley-shakespeare-festival/
ORGANIZER;CN="Mystery Writers of American NY":MAILTO:info@mwany.org
END:VEVENT
END:VCALENDAR